{"text_format":"1","workbook":"xlsx","n_sheets":3,"sheets":["Orig. ","Predominant Use-MultLoc","Local Tax Rate-Hide"],"not_rendered":{"charts":0,"images":0,"macros":0,"external_links":1,"defined_names":2,"comments":0,"pivot_tables":1},"unopened":[],"bounds":{"document_bytes":16777216,"sheet_cells":100000,"rows_first":2000,"rows_last":500,"rows_between":2000,"halvings":0,"cell_chars":16384,"cell_head_chars":4096},"cells_cut":0,"cells_raw":0,"read":"whole","date_system":"1900"}

{"sheet":"Orig. ","index":0,"n_rows":33,"n_cols":15,"rows_kept":33,"cut":false,"hidden":true,"merged":[[32,0,32,14],[29,0,29,2],[29,3,29,8],[29,9,29,14],[30,0,30,2],[30,3,30,8],[30,9,30,14],[31,0,31,5],[31,6,31,8],[31,9,31,12],[31,13,31,14],[23,5,23,6],[23,7,23,13],[26,0,26,2],[26,3,26,8],[26,9,26,14],[24,0,24,14],[25,0,25,14],[27,0,27,2],[27,3,27,8],[27,9,27,14],[28,9,28,14],[28,0,28,2],[28,3,28,8],[21,2,21,4],[21,5,21,6],[21,7,21,9],[21,10,21,12],[22,2,22,4],[22,5,22,6],[22,7,22,9],[22,10,22,12],[19,10,19,12],[20,2,20,4],[20,5,20,6],[20,7,20,9],[20,10,20,12],[8,12,8,14],[10,12,10,14],[10,0,10,11],[13,2,13,4],[13,5,13,6],[13,7,13,9],[13,10,13,12],[9,7,9,10],[8,7,8,10],[9,0,9,6],[9,12,9,14],[5,0,5,3],[2,4,2,7],[3,4,3,7],[4,4,4,7],[5,4,5,7],[0,0,0,14],[1,0,1,14],[2,0,2,3],[3,0,3,3],[4,0,4,3],[14,2,14,4],[14,5,14,6],[14,7,14,9],[14,10,14,12],[15,2,15,4],[15,5,15,6],[15,7,15,9],[15,10,15,12],[16,2,16,4],[16,5,16,6],[16,7,16,9],[16,10,16,12],[23,2,23,4],[17,2,17,4],[17,5,17,6],[17,7,17,9],[17,10,17,12],[18,2,18,4],[18,5,18,6],[18,7,18,9],[18,10,18,12],[19,2,19,4],[19,5,19,6],[19,7,19,9]]}
["Use this worksheet to calculate state and local real estate excise tax (REET) per county, when the sale includes parcels in two or more location codes. Include all the parcels within the entire transaction on this worksheet.\n\nONLY use this worksheet if the predominant use for the sale is agriculture or timber land. For assistance in determining predominant use, see ETA 3215.2019 - Graduated Real Estate Excise Tax (REET): Land Classifications & Predominant Use.  If the transfer involves multiple parcels with different classifications, the Predominate Use worksheet must be completed first."]
["Step 1: Calculate the taxable selling price for entire transaction"]
["Gross Selling Price",null,null,null,0]
["Personal Property (deduct)",null,null,null,0]
["Exemption Claimed (deduct)",null,null,null,0]
["Total Taxable Selling Price (A)",null,null,null,{"$f":"IF((E3-E4-E5)<0, \"ERROR\",(E3-E4-E5))","v":0}]
["Step 2: Calculate the total state REET tax"]
["Amount * Rate = Tax due"]
[null,null,null,null,null,null,null,"Amount",null,null,null,"Rate","Tax Due"]
["Taxable sale price",null,null,null,null,null,null,{"$f":"IF(E6=0,\" \",(IF(E6<500000.01, E6,500000)))","v":" "},null,null,null,1.2800000000000001E-2,{"$f":"IF(H10=\" \",\" \",(H10*L10))","v":" "}]
["Total State REET Tax (B)",null,null,null,null,null,null,null,null,null,null,null,{"$f":"SUM(M10:O10)","v":0}]
["Step 3: Calculate the state REET tax and local REET tax per parcel"]
["Begin by listing the parcel number and taxable selling price for each. Then fill out the table from left to right for each parcel."]
["Parcel number","Taxable Selling\nPrice for this\nParcel\n\n(C)","Percentage of Sale for this Parcel\n\n(D)\n\nDivide the taxable selling price per parcel by the total taxable selling price\n\nC / A",null,null,"State REET Tax\n\nMultiply the total state REET by the percentage of sale for this parcel\n\n\n\n\nB * D",null,"Location\nCode",null,null,"County Where Parcel is Located",null,null,"Local Rate\n\n(E)","Local REET Tax\n\n\n\n\n\n\n\n\n\nC * E"]
[null,null,{"$f":"IF($E$6=0,\" \",IF(B15=\" \", \" \",B15/$E$6))","v":" "},null,null,null,null,null,null,null,null,null,null,null,{"$f":"B15*N15","v":0}]
[null,null,{"$f":"IF($E$6=0,\" \",IF(B16=\" \", \" \",B16/$E$6))","v":" "},null,null,{"$f":"IF(B16>0,C16*$M$11,\" \")","v":" "},null,null,null,null,null,null,null,null,{"$f":"B16*N16","v":0}]
[null,null," ",null,null," ",null,null,null,null,null,null,null,null,0]
[null,null," ",null,null," ",null,null,null,null,null,null,null,null,0]
[null,null," ",null,null," ",null,null,null,null,null,null,null,null,0]
[null,null," ",null,null," ",null,null,null,null,null,null,null,null,0]
[null,null," ",null,null," ",null,null,null,null,null,null,null,null,0]
[null,null," ",null,null," ",null,null,null,null,null,null,null,null,0]
[null,null," ",null,null," ",null,null,null,null,null,null,null,null,0]
[null,"Total Taxable Selling Price (Must match \"A\" above)","Total state REET tax",null,null,{"$f":"SUM(F15:G23)","v":0},null,"Total local REET tax",null,null,null,null,null,null,{"$f":"SUM(O15:O23)","v":0}]
["Step 4: Calculate the state REET tax and local REET tax per county"]
["Sumbit one affidavit per county using the state and local amounts determined below. Enter these amounts in section 7 of the affidavits."]
["County Name",null,null,"State REET\nAdd the state REET amounts from the\nstate REET tax column above for all the locations within the county",null,null,null,null,null,"Local REET\nAdd the local REET amounts from the\nlocal REET tax column above for all the\nlocations within the county"]
[]
[]
[]
[]
["Total State REET Tax",null,null,null,null,null,{"$f":"SUM(D28:I31)","v":0},null,null,"Total Local REET Tax",null,null,null,{"$f":"SUM(J28:O31)","v":0}]
["For tax assistance, contact your local County Treasurer/Recorder or visit http://dor.wa.gov or call 360-534-1503. To request this document in an alternate format, please call 360-705-6705. Teletype (TTY) users may use the Washington Relay Service by calling 711."]

{"sheet":"Predominant Use-MultLoc","index":1,"n_rows":124,"n_cols":15,"rows_kept":124,"cut":false,"hidden":false,"merged":[[113,5,113,6],[20,2,20,4],[20,5,20,6],[20,7,20,9],[20,10,20,12],[115,0,115,14],[116,0,116,14],[117,0,117,2],[113,7,113,9],[113,10,113,12],[114,2,114,4],[114,5,114,6],[114,7,114,13],[25,2,25,4],[24,2,24,4],[24,5,24,6],[24,7,24,9],[24,10,24,12],[25,5,25,6],[25,7,25,9],[25,10,25,12],[26,2,26,4],[26,5,26,6],[26,7,26,9],[119,0,119,2],[119,3,119,8],[119,9,119,14],[120,0,120,2],[120,3,120,8],[120,9,120,14],[123,0,123,14],[15,2,15,4],[15,5,15,6],[15,7,15,9],[15,10,15,12],[122,0,122,5],[122,6,122,8],[122,9,122,12],[122,13,122,14],[117,3,117,8],[117,9,117,14],[118,0,118,2],[118,3,118,8],[121,0,121,2],[121,3,121,8],[121,9,121,14],[118,9,118,14],[113,2,113,4],[26,10,26,12],[21,2,21,4],[21,5,21,6],[21,7,21,9],[21,10,21,12],[22,2,22,4],[22,5,22,6],[22,7,22,9],[22,10,22,12],[23,2,23,4],[23,5,23,6],[23,7,23,9],[23,10,23,12],[14,2,14,4],[14,5,14,6],[14,7,14,9],[14,10,14,12],[9,0,9,6],[9,7,9,10],[9,12,9,14],[10,0,10,11],[10,12,10,14],[13,10,13,12],[13,7,13,9],[13,5,13,6],[13,2,13,4],[8,12,8,14],[0,0,0,14],[1,0,1,14],[2,0,2,3],[2,4,2,7],[3,0,3,3],[3,4,3,7],[4,0,4,3],[4,4,4,7],[5,0,5,3],[5,4,5,7],[8,7,8,10],[39,7,39,9],[40,7,40,9],[41,7,41,9],[32,7,32,9],[33,7,33,9],[34,7,34,9],[35,7,35,9],[36,7,36,9],[27,7,27,9],[28,7,28,9],[29,7,29,9],[30,7,30,9],[31,7,31,9],[54,7,54,9],[55,7,55,9],[56,7,56,9],[47,7,47,9],[48,7,48,9],[49,7,49,9],[50,7,50,9],[51,7,51,9],[42,7,42,9],[43,7,43,9],[44,7,44,9],[45,7,45,9],[46,7,46,9],[69,7,69,9],[70,7,70,9],[71,7,71,9],[62,7,62,9],[63,7,63,9],[64,7,64,9],[65,7,65,9],[66,7,66,9],[57,7,57,9],[58,7,58,9],[59,7,59,9],[60,7,60,9],[61,7,61,9],[85,7,85,9],[86,7,86,9],[77,7,77,9],[78,7,78,9],[79,7,79,9],[80,7,80,9],[81,7,81,9],[72,7,72,9],[73,7,73,9],[74,7,74,9],[75,7,75,9],[76,7,76,9],[92,7,92,9],[93,7,93,9],[94,7,94,9],[95,7,95,9],[96,7,96,9],[87,7,87,9],[88,7,88,9],[89,7,89,9],[90,7,90,9],[91,7,91,9],[109,7,109,9],[110,7,110,9],[111,7,111,9],[102,7,102,9],[103,7,103,9],[104,7,104,9],[105,7,105,9],[106,7,106,9],[97,7,97,9],[98,7,98,9],[99,7,99,9],[100,7,100,9],[101,7,101,9],[94,2,94,4],[94,5,94,6],[94,10,94,12],[95,2,95,4],[95,5,95,6],[95,10,95,12],[112,7,112,9],[89,2,89,4],[89,5,89,6],[89,10,89,12],[90,2,90,4],[90,5,90,6],[90,10,90,12],[91,2,91,4],[91,5,91,6],[91,10,91,12],[92,2,92,4],[92,5,92,6],[92,10,92,12],[93,2,93,4],[93,5,93,6],[93,10,93,12],[107,7,107,9],[108,7,108,9],[98,2,98,4],[98,5,98,6],[98,10,98,12],[99,2,99,4],[99,5,99,6],[99,10,99,12],[96,2,96,4],[96,5,96,6],[96,10,96,12],[97,2,97,4],[97,5,97,6],[97,10,97,12],[102,2,102,4],[102,5,102,6],[102,10,102,12],[103,2,103,4],[103,5,103,6],[103,10,103,12],[100,2,100,4],[100,5,100,6],[100,10,100,12],[101,2,101,4],[101,5,101,6],[101,10,101,12],[106,2,106,4],[106,5,106,6],[106,10,106,12],[107,2,107,4],[107,5,107,6],[107,10,107,12],[104,2,104,4],[104,5,104,6],[104,10,104,12],[105,2,105,4],[105,5,105,6],[105,10,105,12],[88,2,88,4],[88,5,88,6],[88,10,88,12],[85,5,85,6],[85,10,85,12],[86,2,86,4],[86,5,86,6],[86,10,86,12],[112,2,112,4],[112,5,112,6],[112,10,112,12],[85,2,85,4],[110,2,110,4],[110,5,110,6],[110,10,110,12],[111,2,111,4],[111,5,111,6],[111,10,111,12],[108,2,108,4],[108,5,108,6],[108,10,108,12],[109,2,109,4],[109,5,109,6],[109,10,109,12],[70,2,70,4],[70,5,70,6],[70,10,70,12],[71,2,71,4],[71,5,71,6],[71,10,71,12],[87,2,87,4],[87,5,87,6],[87,10,87,12],[81,2,81,4],[81,5,81,6],[81,10,81,12],[82,2,82,4],[82,5,82,6],[82,10,82,12],[83,2,83,4],[83,5,83,6],[83,10,83,12],[84,2,84,4],[84,5,84,6],[84,10,84,12],[82,7,82,9],[83,7,83,9],[84,7,84,9],[74,2,74,4],[74,5,74,6],[74,10,74,12],[75,2,75,4],[75,5,75,6],[75,10,75,12],[72,2,72,4],[72,5,72,6],[72,10,72,12],[73,2,73,4],[73,5,73,6],[73,10,73,12],[79,2,79,4],[79,5,79,6],[79,10,79,12],[76,2,76,4],[76,5,76,6],[76,10,76,12],[77,2,77,4],[77,5,77,6],[77,10,77,12],[59,5,59,6],[59,10,59,12],[60,2,60,4],[60,5,60,6],[60,10,60,12],[80,2,80,4],[80,5,80,6],[80,10,80,12],[55,2,55,4],[55,5,55,6],[55,10,55,12],[56,2,56,4],[56,5,56,6],[56,10,56,12],[57,2,57,4],[57,5,57,6],[57,10,57,12],[58,2,58,4],[58,5,58,6],[58,10,58,12],[59,2,59,4],[78,2,78,4],[78,5,78,6],[78,10,78,12],[63,2,63,4],[63,5,63,6],[63,10,63,12],[64,2,64,4],[64,5,64,6],[64,10,64,12],[61,2,61,4],[61,5,61,6],[61,10,61,12],[62,2,62,4],[62,5,62,6],[62,10,62,12],[68,2,68,4],[68,5,68,6],[68,10,68,12],[65,2,65,4],[65,5,65,6],[65,10,65,12],[66,2,66,4],[66,5,66,6],[66,10,66,12],[67,7,67,9],[68,7,68,9],[44,5,44,6],[44,10,44,12],[45,2,45,4],[45,5,45,6],[45,10,45,12],[69,2,69,4],[69,5,69,6],[69,10,69,12],[40,2,40,4],[40,5,40,6],[40,10,40,12],[41,2,41,4],[41,5,41,6],[41,10,41,12],[42,2,42,4],[42,5,42,6],[42,10,42,12],[43,2,43,4],[43,5,43,6],[43,10,43,12],[44,2,44,4],[67,2,67,4],[67,5,67,6],[67,10,67,12],[48,2,48,4],[48,5,48,6],[48,10,48,12],[49,2,49,4],[49,5,49,6],[49,10,49,12],[46,2,46,4],[46,5,46,6],[46,10,46,12],[47,2,47,4],[47,5,47,6],[47,10,47,12],[53,2,53,4],[53,5,53,6],[53,10,53,12],[50,2,50,4],[50,5,50,6],[50,10,50,12],[51,2,51,4],[51,5,51,6],[51,10,51,12],[52,7,52,9],[53,7,53,9],[31,5,31,6],[31,10,31,12],[32,2,32,4],[32,5,32,6],[32,10,32,12],[54,2,54,4],[54,5,54,6],[54,10,54,12],[27,2,27,4],[27,5,27,6],[27,10,27,12],[28,2,28,4],[28,5,28,6],[28,10,28,12],[29,2,29,4],[29,5,29,6],[29,10,29,12],[30,2,30,4],[30,5,30,6],[30,10,30,12],[31,2,31,4],[52,2,52,4],[52,5,52,6],[52,10,52,12],[38,10,38,12],[35,2,35,4],[35,5,35,6],[35,10,35,12],[36,2,36,4],[36,5,36,6],[36,10,36,12],[33,2,33,4],[33,5,33,6],[33,10,33,12],[34,2,34,4],[34,5,34,6],[34,10,34,12],[37,7,37,9],[38,7,38,9],[19,5,19,6],[19,7,19,9],[19,10,19,12],[39,2,39,4],[39,5,39,6],[39,10,39,12],[16,2,16,4],[16,5,16,6],[16,7,16,9],[16,10,16,12],[17,2,17,4],[17,5,17,6],[17,7,17,9],[17,10,17,12],[18,2,18,4],[18,5,18,6],[18,7,18,9],[18,10,18,12],[19,2,19,4],[37,2,37,4],[37,5,37,6],[37,10,37,12],[38,2,38,4],[38,5,38,6]]}
["Use this worksheet to calculate state and local real estate excise tax (REET) per county, when the sale includes parcels in two or more location codes. Include all the parcels within the entire transaction on this worksheet.\n\nONLY use this worksheet if the predominant use for the sale is agriculture or timber land. For assistance in determining predominant use, see ETA 3215.2019 - Graduated Real Estate Excise Tax (REET): Land Classifications & Predominant Use.  If the transfer involves multiple parcels with different classifications, the Predominate Use worksheet must be completed first."]
["Step 1: Calculate the taxable selling price for entire transaction"]
["Gross Selling Price"]
["Personal Property (deduct)"]
["Exemption Claimed (deduct)"]
["Total Taxable Selling Price (A)",null,null,null,{"$f":"IF((E3-E4-E5)<0, \"ERROR\",(E3-E4-E5))","v":0}]
["Step 2: Calculate the total state REET tax"]
["Amount * Rate = Tax due"]
[null,null,null,null,null,null,null,"Amount",null,null,null,"Rate","Tax Due"]
["Taxable sale price",null,null,null,null,null,null,{"$f":"E6","v":0},null,null,null,1.2800000000000001E-2,{"$f":"IF(H10=\" \",\" \",(H10*L10))","v":0}]
["Total State REET Tax (B)",null,null,null,null,null,null,null,null,null,null,null,{"$f":"SUM(M10:O10)","v":0}]
["Step 3: Calculate the state REET tax and local REET tax per parcel"]
["Begin by listing the parcel number and taxable selling price for each. Then fill out the table from left to right for each parcel."]
["Parcel number","Taxable Selling\nPrice for this\nParcel\n\n(C)","Percentage of Sale for this Parcel\n\n(D)\n\nDivide the taxable selling price per parcel by the total taxable selling price\n\nC / A",null,null,"State REET Tax\n\nMultiply the total state REET by the percentage of sale for this parcel\n\n\n\n\nB * D",null,"Location\nCode",null,null,"County Where Parcel is Located",null,null,"Local Rate\n\n(E)","Local REET Tax\n\n\n\n\n\n\n\n\n\nC * E"]
[null,null,{"$f":"IF($E$6=0,\" \",IF(B15=\" \", \" \",B15/$E$6))","v":" "},null,null,{"$f":"IF(B15>0,C15*$M$11,\" \")","v":" "},null,null,null,null,{"$f":"IF(H15=\"\",\"\",VLOOKUP(H15,'Local Tax Rate-Hide'!$A$1:$E$327,5))","v":""},null,null,{"$f":"IF(H15=\"\",\"0\",VLOOKUP(H15,'Local Tax Rate-Hide'!$A$1:$E$327,2))","v":"0"},{"$f":"B15*N15","v":0}]
[null,null,{"$f":"IF($E$6=0,\" \",IF(B16=\" \", \" \",B16/$E$6))","v":" "},null,null,{"$f":"IF(B16>0,C16*$M$11,\" \")","v":" "},null,null,null,null,{"$f":"IF(H16=\"\",\"\",VLOOKUP(H16,'Local Tax Rate-Hide'!$A$1:$E$327,5))","v":""},null,null,{"$f":"IF(H16=\"\",\"0\",VLOOKUP(H16,'Local Tax Rate-Hide'!$A$1:$E$327,2))","v":"0"},{"$f":"B16*N16","v":0}]
[null,null,{"$f":"IF($E$6=0,\" \",IF(B17=\" \", \" \",B17/$E$6))","v":" "},null,null,{"$f":"IF(B17>0,C17*$M$11,\" \")","v":" "},null,null,null,null,{"$f":"IF(H17=\"\",\"\",VLOOKUP(H17,'Local Tax Rate-Hide'!$A$1:$E$327,5))","v":""},null,null,{"$f":"IF(H17=\"\",\"0\",VLOOKUP(H17,'Local Tax Rate-Hide'!$A$1:$E$327,2))","v":"0"},{"$f":"B17*N17","v":0}]
[null,null," ",null,null," ",null,null,null,null,{"$f":"IF(H18=\"\",\"\",VLOOKUP(H18,'Local Tax Rate-Hide'!$A$1:$E$327,5))","v":""},null,null,{"$f":"IF(H18=\"\",\"0\",VLOOKUP(H18,'Local Tax Rate-Hide'!$A$1:$E$327,2))","v":"0"},0]
[null,null," ",null,null," ",null,null,null,null,{"$f":"IF(H19=\"\",\"\",VLOOKUP(H19,'Local Tax Rate-Hide'!$A$1:$E$327,5))","v":""},null,null,{"$f":"IF(H19=\"\",\"0\",VLOOKUP(H19,'Local Tax Rate-Hide'!$A$1:$E$327,2))","v":"0"},0]
[null,null," ",null,null," ",null,null,null,null,{"$f":"IF(H20=\"\",\"\",VLOOKUP(H20,'Local Tax Rate-Hide'!$A$1:$E$327,5))","v":""},null,null,{"$f":"IF(H20=\"\",\"0\",VLOOKUP(H20,'Local Tax Rate-Hide'!$A$1:$E$327,2))","v":"0"},0]
[null,null," ",null,null," ",null,null,null,null,{"$f":"IF(H21=\"\",\"\",VLOOKUP(H21,'Local Tax Rate-Hide'!$A$1:$E$327,5))","v":""},null,null,{"$f":"IF(H21=\"\",\"0\",VLOOKUP(H21,'Local Tax Rate-Hide'!$A$1:$E$327,2))","v":"0"},{"$f":"B21*N21","v":0}]
[null,null,{"$f":"IF($E$6=0,\" \",IF(B22=\" \", \" \",B22/$E$6))","v":" "},null,null,{"$f":"IF(B22>0,C22*$M$11,\" \")","v":" "},null,null,null,null,{"$f":"IF(H22=\"\",\"\",VLOOKUP(H22,'Local Tax Rate-Hide'!$A$1:$E$327,5))","v":""},null,null,{"$f":"IF(H22=\"\",\"0\",VLOOKUP(H22,'Local Tax Rate-Hide'!$A$1:$E$327,2))","v":"0"},{"$f":"B22*N22","v":0}]
[null,null," ",null,null," ",null,null,null,null,{"$f":"IF(H23=\"\",\"\",VLOOKUP(H23,'Local Tax Rate-Hide'!$A$1:$E$327,5))","v":""},null,null,{"$f":"IF(H23=\"\",\"0\",VLOOKUP(H23,'Local Tax Rate-Hide'!$A$1:$E$327,2))","v":"0"},0]
[null,null," ",null,null," ",null,null,null,null,{"$f":"IF(H24=\"\",\"\",VLOOKUP(H24,'Local Tax Rate-Hide'!$A$1:$E$327,5))","v":""},null,null,{"$f":"IF(H24=\"\",\"0\",VLOOKUP(H24,'Local Tax Rate-Hide'!$A$1:$E$327,2))","v":"0"},0]
[null,null," ",null,null," ",null,null,null,null,{"$f":"IF(H25=\"\",\"\",VLOOKUP(H25,'Local Tax Rate-Hide'!$A$1:$E$327,5))","v":""},null,null,{"$f":"IF(H25=\"\",\"0\",VLOOKUP(H25,'Local Tax Rate-Hide'!$A$1:$E$327,2))","v":"0"},0]
[null,null," ",null,null," ",null,null,null,null,{"$f":"IF(H26=\"\",\"\",VLOOKUP(H26,'Local Tax Rate-Hide'!$A$1:$E$327,5))","v":""},null,null,{"$f":"IF(H26=\"\",\"0\",VLOOKUP(H26,'Local Tax Rate-Hide'!$A$1:$E$327,2))","v":"0"},0]
[null,null," ",null,null," ",null,null,null,null,{"$f":"IF(H27=\"\",\"\",VLOOKUP(H27,'Local Tax Rate-Hide'!$A$1:$E$327,5))","v":""},null,null,{"$f":"IF(H27=\"\",\"0\",VLOOKUP(H27,'Local Tax Rate-Hide'!$A$1:$E$327,2))","v":"0"},0]
[null,null," ",null,null," ",null,null,null,null,{"$f":"IF(H28=\"\",\"\",VLOOKUP(H28,'Local Tax Rate-Hide'!$A$1:$E$327,5))","v":""},null,null,{"$f":"IF(H28=\"\",\"0\",VLOOKUP(H28,'Local Tax Rate-Hide'!$A$1:$E$327,2))","v":"0"},{"$f":"B28*N28","v":0}]
[null,null," ",null,null," ",null,null,null,null,{"$f":"IF(H29=\"\",\"\",VLOOKUP(H29,'Local Tax Rate-Hide'!$A$1:$E$327,5))","v":""},null,null,{"$f":"IF(H29=\"\",\"0\",VLOOKUP(H29,'Local Tax Rate-Hide'!$A$1:$E$327,2))","v":"0"},0]
[null,null," ",null,null," ",null,null,null,null,{"$f":"IF(H30=\"\",\"\",VLOOKUP(H30,'Local Tax Rate-Hide'!$A$1:$E$327,5))","v":""},null,null,{"$f":"IF(H30=\"\",\"0\",VLOOKUP(H30,'Local Tax Rate-Hide'!$A$1:$E$327,2))","v":"0"},0]
[null,null," ",null,null," ",null,null,null,null,{"$f":"IF(H31=\"\",\"\",VLOOKUP(H31,'Local Tax Rate-Hide'!$A$1:$E$327,5))","v":""},null,null,{"$f":"IF(H31=\"\",\"0\",VLOOKUP(H31,'Local Tax Rate-Hide'!$A$1:$E$327,2))","v":"0"},0]
[null,null," ",null,null," ",null,null,null,null,{"$f":"IF(H32=\"\",\"\",VLOOKUP(H32,'Local Tax Rate-Hide'!$A$1:$E$327,5))","v":""},null,null,{"$f":"IF(H32=\"\",\"0\",VLOOKUP(H32,'Local Tax Rate-Hide'!$A$1:$E$327,2))","v":"0"},0]
[null,null," ",null,null," ",null,null,null,null,{"$f":"IF(H33=\"\",\"\",VLOOKUP(H33,'Local Tax Rate-Hide'!$A$1:$E$327,5))","v":""},null,null,{"$f":"IF(H33=\"\",\"0\",VLOOKUP(H33,'Local Tax Rate-Hide'!$A$1:$E$327,2))","v":"0"},0]
[null,null," ",null,null," ",null,null,null,null,{"$f":"IF(H34=\"\",\"\",VLOOKUP(H34,'Local Tax Rate-Hide'!$A$1:$E$327,5))","v":""},null,null,{"$f":"IF(H34=\"\",\"0\",VLOOKUP(H34,'Local Tax Rate-Hide'!$A$1:$E$327,2))","v":"0"},0]
[null,null," ",null,null," ",null,null,null,null,{"$f":"IF(H35=\"\",\"\",VLOOKUP(H35,'Local Tax Rate-Hide'!$A$1:$E$327,5))","v":""},null,null,{"$f":"IF(H35=\"\",\"0\",VLOOKUP(H35,'Local Tax Rate-Hide'!$A$1:$E$327,2))","v":"0"},0]
[null,null," ",null,null," ",null,null,null,null,{"$f":"IF(H36=\"\",\"\",VLOOKUP(H36,'Local Tax Rate-Hide'!$A$1:$E$327,5))","v":""},null,null,{"$f":"IF(H36=\"\",\"0\",VLOOKUP(H36,'Local Tax Rate-Hide'!$A$1:$E$327,2))","v":"0"},0]
[null,null," ",null,null," ",null,null,null,null,{"$f":"IF(H37=\"\",\"\",VLOOKUP(H37,'Local Tax Rate-Hide'!$A$1:$E$327,5))","v":""},null,null,{"$f":"IF(H37=\"\",\"0\",VLOOKUP(H37,'Local Tax Rate-Hide'!$A$1:$E$327,2))","v":"0"},0]
[null,null," ",null,null," ",null,null,null,null,{"$f":"IF(H38=\"\",\"\",VLOOKUP(H38,'Local Tax Rate-Hide'!$A$1:$E$327,5))","v":""},null,null,{"$f":"IF(H38=\"\",\"0\",VLOOKUP(H38,'Local Tax Rate-Hide'!$A$1:$E$327,2))","v":"0"},0]
[null,null," ",null,null," ",null,null,null,null,{"$f":"IF(H39=\"\",\"\",VLOOKUP(H39,'Local Tax Rate-Hide'!$A$1:$E$327,5))","v":""},null,null,{"$f":"IF(H39=\"\",\"0\",VLOOKUP(H39,'Local Tax Rate-Hide'!$A$1:$E$327,2))","v":"0"},0]
[null,null," ",null,null," ",null,null,null,null,{"$f":"IF(H40=\"\",\"\",VLOOKUP(H40,'Local Tax Rate-Hide'!$A$1:$E$327,5))","v":""},null,null,{"$f":"IF(H40=\"\",\"0\",VLOOKUP(H40,'Local Tax Rate-Hide'!$A$1:$E$327,2))","v":"0"},0]
[null,null," ",null,null," ",null,null,null,null,{"$f":"IF(H41=\"\",\"\",VLOOKUP(H41,'Local Tax Rate-Hide'!$A$1:$E$327,5))","v":""},null,null,{"$f":"IF(H41=\"\",\"0\",VLOOKUP(H41,'Local Tax Rate-Hide'!$A$1:$E$327,2))","v":"0"},0]
[null,null," ",null,null," ",null,null,null,null,{"$f":"IF(H42=\"\",\"\",VLOOKUP(H42,'Local Tax Rate-Hide'!$A$1:$E$327,5))","v":""},null,null,{"$f":"IF(H42=\"\",\"0\",VLOOKUP(H42,'Local Tax Rate-Hide'!$A$1:$E$327,2))","v":"0"},0]
[null,null," ",null,null," ",null,null,null,null,{"$f":"IF(H43=\"\",\"\",VLOOKUP(H43,'Local Tax Rate-Hide'!$A$1:$E$327,5))","v":""},null,null,{"$f":"IF(H43=\"\",\"0\",VLOOKUP(H43,'Local Tax Rate-Hide'!$A$1:$E$327,2))","v":"0"},0]
[null,null," ",null,null," ",null,null,null,null,{"$f":"IF(H44=\"\",\"\",VLOOKUP(H44,'Local Tax Rate-Hide'!$A$1:$E$327,5))","v":""},null,null,{"$f":"IF(H44=\"\",\"0\",VLOOKUP(H44,'Local Tax Rate-Hide'!$A$1:$E$327,2))","v":"0"},0]
[null,null," ",null,null," ",null,null,null,null,{"$f":"IF(H45=\"\",\"\",VLOOKUP(H45,'Local Tax Rate-Hide'!$A$1:$E$327,5))","v":""},null,null,{"$f":"IF(H45=\"\",\"0\",VLOOKUP(H45,'Local Tax Rate-Hide'!$A$1:$E$327,2))","v":"0"},0]
[null,null," ",null,null," ",null,null,null,null,{"$f":"IF(H46=\"\",\"\",VLOOKUP(H46,'Local Tax Rate-Hide'!$A$1:$E$327,5))","v":""},null,null,{"$f":"IF(H46=\"\",\"0\",VLOOKUP(H46,'Local Tax Rate-Hide'!$A$1:$E$327,2))","v":"0"},0]
[null,null," ",null,null," ",null,null,null,null,{"$f":"IF(H47=\"\",\"\",VLOOKUP(H47,'Local Tax Rate-Hide'!$A$1:$E$327,5))","v":""},null,null,{"$f":"IF(H47=\"\",\"0\",VLOOKUP(H47,'Local Tax Rate-Hide'!$A$1:$E$327,2))","v":"0"},0]
[null,null," ",null,null," ",null,null,null,null,{"$f":"IF(H48=\"\",\"\",VLOOKUP(H48,'Local Tax Rate-Hide'!$A$1:$E$327,5))","v":""},null,null,{"$f":"IF(H48=\"\",\"0\",VLOOKUP(H48,'Local Tax Rate-Hide'!$A$1:$E$327,2))","v":"0"},0]
[null,null," ",null,null," ",null,null,null,null,{"$f":"IF(H49=\"\",\"\",VLOOKUP(H49,'Local Tax Rate-Hide'!$A$1:$E$327,5))","v":""},null,null,{"$f":"IF(H49=\"\",\"0\",VLOOKUP(H49,'Local Tax Rate-Hide'!$A$1:$E$327,2))","v":"0"},0]
[null,null," ",null,null," ",null,null,null,null,{"$f":"IF(H50=\"\",\"\",VLOOKUP(H50,'Local Tax Rate-Hide'!$A$1:$E$327,5))","v":""},null,null,{"$f":"IF(H50=\"\",\"0\",VLOOKUP(H50,'Local Tax Rate-Hide'!$A$1:$E$327,2))","v":"0"},0]
[null,null," ",null,null," ",null,null,null,null,{"$f":"IF(H51=\"\",\"\",VLOOKUP(H51,'Local Tax Rate-Hide'!$A$1:$E$327,5))","v":""},null,null,{"$f":"IF(H51=\"\",\"0\",VLOOKUP(H51,'Local Tax Rate-Hide'!$A$1:$E$327,2))","v":"0"},0]
[null,null," ",null,null," ",null,null,null,null,{"$f":"IF(H52=\"\",\"\",VLOOKUP(H52,'Local Tax Rate-Hide'!$A$1:$E$327,5))","v":""},null,null,{"$f":"IF(H52=\"\",\"0\",VLOOKUP(H52,'Local Tax Rate-Hide'!$A$1:$E$327,2))","v":"0"},0]
[null,null," ",null,null," ",null,null,null,null,{"$f":"IF(H53=\"\",\"\",VLOOKUP(H53,'Local Tax Rate-Hide'!$A$1:$E$327,5))","v":""},null,null,{"$f":"IF(H53=\"\",\"0\",VLOOKUP(H53,'Local Tax Rate-Hide'!$A$1:$E$327,2))","v":"0"},0]
[null,null," ",null,null," ",null,null,null,null,{"$f":"IF(H54=\"\",\"\",VLOOKUP(H54,'Local Tax Rate-Hide'!$A$1:$E$327,5))","v":""},null,null,{"$f":"IF(H54=\"\",\"0\",VLOOKUP(H54,'Local Tax Rate-Hide'!$A$1:$E$327,2))","v":"0"},0]
[null,null," ",null,null," ",null,null,null,null,{"$f":"IF(H55=\"\",\"\",VLOOKUP(H55,'Local Tax Rate-Hide'!$A$1:$E$327,5))","v":""},null,null,{"$f":"IF(H55=\"\",\"0\",VLOOKUP(H55,'Local Tax Rate-Hide'!$A$1:$E$327,2))","v":"0"},0]
[null,null," ",null,null," ",null,null,null,null,{"$f":"IF(H56=\"\",\"\",VLOOKUP(H56,'Local Tax Rate-Hide'!$A$1:$E$327,5))","v":""},null,null,{"$f":"IF(H56=\"\",\"0\",VLOOKUP(H56,'Local Tax Rate-Hide'!$A$1:$E$327,2))","v":"0"},0]
[null,null," ",null,null," ",null,null,null,null,{"$f":"IF(H57=\"\",\"\",VLOOKUP(H57,'Local Tax Rate-Hide'!$A$1:$E$327,5))","v":""},null,null,{"$f":"IF(H57=\"\",\"0\",VLOOKUP(H57,'Local Tax Rate-Hide'!$A$1:$E$327,2))","v":"0"},0]
[null,null," ",null,null," ",null,null,null,null,{"$f":"IF(H58=\"\",\"\",VLOOKUP(H58,'Local Tax Rate-Hide'!$A$1:$E$327,5))","v":""},null,null,{"$f":"IF(H58=\"\",\"0\",VLOOKUP(H58,'Local Tax Rate-Hide'!$A$1:$E$327,2))","v":"0"},0]
[null,null," ",null,null," ",null,null,null,null,{"$f":"IF(H59=\"\",\"\",VLOOKUP(H59,'Local Tax Rate-Hide'!$A$1:$E$327,5))","v":""},null,null,{"$f":"IF(H59=\"\",\"0\",VLOOKUP(H59,'Local Tax Rate-Hide'!$A$1:$E$327,2))","v":"0"},0]
[null,null," ",null,null," ",null,null,null,null,{"$f":"IF(H60=\"\",\"\",VLOOKUP(H60,'Local Tax Rate-Hide'!$A$1:$E$327,5))","v":""},null,null,{"$f":"IF(H60=\"\",\"0\",VLOOKUP(H60,'Local Tax Rate-Hide'!$A$1:$E$327,2))","v":"0"},0]
[null,null," ",null,null," ",null,null,null,null,{"$f":"IF(H61=\"\",\"\",VLOOKUP(H61,'Local Tax Rate-Hide'!$A$1:$E$327,5))","v":""},null,null,{"$f":"IF(H61=\"\",\"0\",VLOOKUP(H61,'Local Tax Rate-Hide'!$A$1:$E$327,2))","v":"0"},0]
[null,null," ",null,null," ",null,null,null,null,{"$f":"IF(H62=\"\",\"\",VLOOKUP(H62,'Local Tax Rate-Hide'!$A$1:$E$327,5))","v":""},null,null,{"$f":"IF(H62=\"\",\"0\",VLOOKUP(H62,'Local Tax Rate-Hide'!$A$1:$E$327,2))","v":"0"},0]
[null,null," ",null,null," ",null,null,null,null,{"$f":"IF(H63=\"\",\"\",VLOOKUP(H63,'Local Tax Rate-Hide'!$A$1:$E$327,5))","v":""},null,null,{"$f":"IF(H63=\"\",\"0\",VLOOKUP(H63,'Local Tax Rate-Hide'!$A$1:$E$327,2))","v":"0"},0]
[null,null," ",null,null," ",null,null,null,null,{"$f":"IF(H64=\"\",\"\",VLOOKUP(H64,'Local Tax Rate-Hide'!$A$1:$E$327,5))","v":""},null,null,{"$f":"IF(H64=\"\",\"0\",VLOOKUP(H64,'Local Tax Rate-Hide'!$A$1:$E$327,2))","v":"0"},0]
[null,null," ",null,null," ",null,null,null,null,{"$f":"IF(H65=\"\",\"\",VLOOKUP(H65,'Local Tax Rate-Hide'!$A$1:$E$327,5))","v":""},null,null,{"$f":"IF(H65=\"\",\"0\",VLOOKUP(H65,'Local Tax Rate-Hide'!$A$1:$E$327,2))","v":"0"},0]
[null,null," ",null,null," ",null,null,null,null,{"$f":"IF(H66=\"\",\"\",VLOOKUP(H66,'Local Tax Rate-Hide'!$A$1:$E$327,5))","v":""},null,null,{"$f":"IF(H66=\"\",\"0\",VLOOKUP(H66,'Local Tax Rate-Hide'!$A$1:$E$327,2))","v":"0"},0]
[null,null," ",null,null," ",null,null,null,null,{"$f":"IF(H67=\"\",\"\",VLOOKUP(H67,'Local Tax Rate-Hide'!$A$1:$E$327,5))","v":""},null,null,{"$f":"IF(H67=\"\",\"0\",VLOOKUP(H67,'Local Tax Rate-Hide'!$A$1:$E$327,2))","v":"0"},0]
[null,null," ",null,null," ",null,null,null,null,{"$f":"IF(H68=\"\",\"\",VLOOKUP(H68,'Local Tax Rate-Hide'!$A$1:$E$327,5))","v":""},null,null,{"$f":"IF(H68=\"\",\"0\",VLOOKUP(H68,'Local Tax Rate-Hide'!$A$1:$E$327,2))","v":"0"},0]
[null,null," ",null,null," ",null,null,null,null,{"$f":"IF(H69=\"\",\"\",VLOOKUP(H69,'Local Tax Rate-Hide'!$A$1:$E$327,5))","v":""},null,null,{"$f":"IF(H69=\"\",\"0\",VLOOKUP(H69,'Local Tax Rate-Hide'!$A$1:$E$327,2))","v":"0"},0]
[null,null," ",null,null," ",null,null,null,null,{"$f":"IF(H70=\"\",\"\",VLOOKUP(H70,'Local Tax Rate-Hide'!$A$1:$E$327,5))","v":""},null,null,{"$f":"IF(H70=\"\",\"0\",VLOOKUP(H70,'Local Tax Rate-Hide'!$A$1:$E$327,2))","v":"0"},0]
[null,null," ",null,null," ",null,null,null,null,{"$f":"IF(H71=\"\",\"\",VLOOKUP(H71,'Local Tax Rate-Hide'!$A$1:$E$327,5))","v":""},null,null,{"$f":"IF(H71=\"\",\"0\",VLOOKUP(H71,'Local Tax Rate-Hide'!$A$1:$E$327,2))","v":"0"},0]
[null,null," ",null,null," ",null,null,null,null,{"$f":"IF(H72=\"\",\"\",VLOOKUP(H72,'Local Tax Rate-Hide'!$A$1:$E$327,5))","v":""},null,null,{"$f":"IF(H72=\"\",\"0\",VLOOKUP(H72,'Local Tax Rate-Hide'!$A$1:$E$327,2))","v":"0"},0]
[null,null," ",null,null," ",null,null,null,null,{"$f":"IF(H73=\"\",\"\",VLOOKUP(H73,'Local Tax Rate-Hide'!$A$1:$E$327,5))","v":""},null,null,{"$f":"IF(H73=\"\",\"0\",VLOOKUP(H73,'Local Tax Rate-Hide'!$A$1:$E$327,2))","v":"0"},0]
[null,null," ",null,null," ",null,null,null,null,{"$f":"IF(H74=\"\",\"\",VLOOKUP(H74,'Local Tax Rate-Hide'!$A$1:$E$327,5))","v":""},null,null,{"$f":"IF(H74=\"\",\"0\",VLOOKUP(H74,'Local Tax Rate-Hide'!$A$1:$E$327,2))","v":"0"},0]
[null,null," ",null,null," ",null,null,null,null,{"$f":"IF(H75=\"\",\"\",VLOOKUP(H75,'Local Tax Rate-Hide'!$A$1:$E$327,5))","v":""},null,null,{"$f":"IF(H75=\"\",\"0\",VLOOKUP(H75,'Local Tax Rate-Hide'!$A$1:$E$327,2))","v":"0"},0]
[null,null," ",null,null," ",null,null,null,null,{"$f":"IF(H76=\"\",\"\",VLOOKUP(H76,'Local Tax Rate-Hide'!$A$1:$E$327,5))","v":""},null,null,{"$f":"IF(H76=\"\",\"0\",VLOOKUP(H76,'Local Tax Rate-Hide'!$A$1:$E$327,2))","v":"0"},0]
[null,null," ",null,null," ",null,null,null,null,{"$f":"IF(H77=\"\",\"\",VLOOKUP(H77,'Local Tax Rate-Hide'!$A$1:$E$327,5))","v":""},null,null,{"$f":"IF(H77=\"\",\"0\",VLOOKUP(H77,'Local Tax Rate-Hide'!$A$1:$E$327,2))","v":"0"},0]
[null,null," ",null,null," ",null,null,null,null,{"$f":"IF(H78=\"\",\"\",VLOOKUP(H78,'Local Tax Rate-Hide'!$A$1:$E$327,5))","v":""},null,null,{"$f":"IF(H78=\"\",\"0\",VLOOKUP(H78,'Local Tax Rate-Hide'!$A$1:$E$327,2))","v":"0"},0]
[null,null," ",null,null," ",null,null,null,null,{"$f":"IF(H79=\"\",\"\",VLOOKUP(H79,'Local Tax Rate-Hide'!$A$1:$E$327,5))","v":""},null,null,{"$f":"IF(H79=\"\",\"0\",VLOOKUP(H79,'Local Tax Rate-Hide'!$A$1:$E$327,2))","v":"0"},0]
[null,null," ",null,null," ",null,null,null,null,{"$f":"IF(H80=\"\",\"\",VLOOKUP(H80,'Local Tax Rate-Hide'!$A$1:$E$327,5))","v":""},null,null,{"$f":"IF(H80=\"\",\"0\",VLOOKUP(H80,'Local Tax Rate-Hide'!$A$1:$E$327,2))","v":"0"},0]
[null,null," ",null,null," ",null,null,null,null,{"$f":"IF(H81=\"\",\"\",VLOOKUP(H81,'Local Tax Rate-Hide'!$A$1:$E$327,5))","v":""},null,null,{"$f":"IF(H81=\"\",\"0\",VLOOKUP(H81,'Local Tax Rate-Hide'!$A$1:$E$327,2))","v":"0"},0]
[null,null," ",null,null," ",null,null,null,null,{"$f":"IF(H82=\"\",\"\",VLOOKUP(H82,'Local Tax Rate-Hide'!$A$1:$E$327,5))","v":""},null,null,{"$f":"IF(H82=\"\",\"0\",VLOOKUP(H82,'Local Tax Rate-Hide'!$A$1:$E$327,2))","v":"0"},0]
[null,null," ",null,null," ",null,null,null,null,{"$f":"IF(H83=\"\",\"\",VLOOKUP(H83,'Local Tax Rate-Hide'!$A$1:$E$327,5))","v":""},null,null,{"$f":"IF(H83=\"\",\"0\",VLOOKUP(H83,'Local Tax Rate-Hide'!$A$1:$E$327,2))","v":"0"},0]
[null,null," ",null,null," ",null,null,null,null,{"$f":"IF(H84=\"\",\"\",VLOOKUP(H84,'Local Tax Rate-Hide'!$A$1:$E$327,5))","v":""},null,null,{"$f":"IF(H84=\"\",\"0\",VLOOKUP(H84,'Local Tax Rate-Hide'!$A$1:$E$327,2))","v":"0"},0]
[null,null," ",null,null," ",null,null,null,null,{"$f":"IF(H85=\"\",\"\",VLOOKUP(H85,'Local Tax Rate-Hide'!$A$1:$E$327,5))","v":""},null,null,{"$f":"IF(H85=\"\",\"0\",VLOOKUP(H85,'Local Tax Rate-Hide'!$A$1:$E$327,2))","v":"0"},0]
[null,null,{"$f":"IF($E$6=0,\" \",IF(B86=\" \", \" \",B86/$E$6))","v":" "},null,null,{"$f":"IF(B86>0,C86*$M$11,\" \")","v":" "},null,null,null,null,{"$f":"IF(H86=\"\",\"\",VLOOKUP(H86,'Local Tax Rate-Hide'!$A$1:$E$327,5))","v":""},null,null,{"$f":"IF(H86=\"\",\"0\",VLOOKUP(H86,'Local Tax Rate-Hide'!$A$1:$E$327,2))","v":"0"},0]
[null,null," ",null,null," ",null,null,null,null,{"$f":"IF(H87=\"\",\"\",VLOOKUP(H87,'Local Tax Rate-Hide'!$A$1:$E$327,5))","v":""},null,null,{"$f":"IF(H87=\"\",\"0\",VLOOKUP(H87,'Local Tax Rate-Hide'!$A$1:$E$327,2))","v":"0"},0]
[null,null," ",null,null," ",null,null,null,null,{"$f":"IF(H88=\"\",\"\",VLOOKUP(H88,'Local Tax Rate-Hide'!$A$1:$E$327,5))","v":""},null,null,{"$f":"IF(H88=\"\",\"0\",VLOOKUP(H88,'Local Tax Rate-Hide'!$A$1:$E$327,2))","v":"0"},0]
[null,null," ",null,null," ",null,null,null,null,{"$f":"IF(H89=\"\",\"\",VLOOKUP(H89,'Local Tax Rate-Hide'!$A$1:$E$327,5))","v":""},null,null,{"$f":"IF(H89=\"\",\"0\",VLOOKUP(H89,'Local Tax Rate-Hide'!$A$1:$E$327,2))","v":"0"},0]
[null,null," ",null,null," ",null,null,null,null,{"$f":"IF(H90=\"\",\"\",VLOOKUP(H90,'Local Tax Rate-Hide'!$A$1:$E$327,5))","v":""},null,null,{"$f":"IF(H90=\"\",\"0\",VLOOKUP(H90,'Local Tax Rate-Hide'!$A$1:$E$327,2))","v":"0"},0]
[null,null," ",null,null," ",null,null,null,null,{"$f":"IF(H91=\"\",\"\",VLOOKUP(H91,'Local Tax Rate-Hide'!$A$1:$E$327,5))","v":""},null,null,{"$f":"IF(H91=\"\",\"0\",VLOOKUP(H91,'Local Tax Rate-Hide'!$A$1:$E$327,2))","v":"0"},0]
[null,null," ",null,null," ",null,null,null,null,{"$f":"IF(H92=\"\",\"\",VLOOKUP(H92,'Local Tax Rate-Hide'!$A$1:$E$327,5))","v":""},null,null,{"$f":"IF(H92=\"\",\"0\",VLOOKUP(H92,'Local Tax Rate-Hide'!$A$1:$E$327,2))","v":"0"},{"$f":"B92*N92","v":0}]
[null,null," ",null,null," ",null,null,null,null,{"$f":"IF(H93=\"\",\"\",VLOOKUP(H93,'Local Tax Rate-Hide'!$A$1:$E$327,5))","v":""},null,null,{"$f":"IF(H93=\"\",\"0\",VLOOKUP(H93,'Local Tax Rate-Hide'!$A$1:$E$327,2))","v":"0"},0]
[null,null," ",null,null," ",null,null,null,null,{"$f":"IF(H94=\"\",\"\",VLOOKUP(H94,'Local Tax Rate-Hide'!$A$1:$E$327,5))","v":""},null,null,{"$f":"IF(H94=\"\",\"0\",VLOOKUP(H94,'Local Tax Rate-Hide'!$A$1:$E$327,2))","v":"0"},0]
[null,null," ",null,null," ",null,null,null,null,{"$f":"IF(H95=\"\",\"\",VLOOKUP(H95,'Local Tax Rate-Hide'!$A$1:$E$327,5))","v":""},null,null,{"$f":"IF(H95=\"\",\"0\",VLOOKUP(H95,'Local Tax Rate-Hide'!$A$1:$E$327,2))","v":"0"},0]
[null,null," ",null,null," ",null,null,null,null,{"$f":"IF(H96=\"\",\"\",VLOOKUP(H96,'Local Tax Rate-Hide'!$A$1:$E$327,5))","v":""},null,null,{"$f":"IF(H96=\"\",\"0\",VLOOKUP(H96,'Local Tax Rate-Hide'!$A$1:$E$327,2))","v":"0"},0]
[null,null," ",null,null," ",null,null,null,null,{"$f":"IF(H97=\"\",\"\",VLOOKUP(H97,'Local Tax Rate-Hide'!$A$1:$E$327,5))","v":""},null,null,{"$f":"IF(H97=\"\",\"0\",VLOOKUP(H97,'Local Tax Rate-Hide'!$A$1:$E$327,2))","v":"0"},0]
[null,null," ",null,null," ",null,null,null,null,{"$f":"IF(H98=\"\",\"\",VLOOKUP(H98,'Local Tax Rate-Hide'!$A$1:$E$327,5))","v":""},null,null,{"$f":"IF(H98=\"\",\"0\",VLOOKUP(H98,'Local Tax Rate-Hide'!$A$1:$E$327,2))","v":"0"},0]
[null,null," ",null,null," ",null,null,null,null,{"$f":"IF(H99=\"\",\"\",VLOOKUP(H99,'Local Tax Rate-Hide'!$A$1:$E$327,5))","v":""},null,null,{"$f":"IF(H99=\"\",\"0\",VLOOKUP(H99,'Local Tax Rate-Hide'!$A$1:$E$327,2))","v":"0"},0]
[null,null," ",null,null," ",null,null,null,null,{"$f":"IF(H100=\"\",\"\",VLOOKUP(H100,'Local Tax Rate-Hide'!$A$1:$E$327,5))","v":""},null,null,{"$f":"IF(H100=\"\",\"0\",VLOOKUP(H100,'Local Tax Rate-Hide'!$A$1:$E$327,2))","v":"0"},0]
[null,null," ",null,null," ",null,null,null,null,{"$f":"IF(H101=\"\",\"\",VLOOKUP(H101,'Local Tax Rate-Hide'!$A$1:$E$327,5))","v":""},null,null,{"$f":"IF(H101=\"\",\"0\",VLOOKUP(H101,'Local Tax Rate-Hide'!$A$1:$E$327,2))","v":"0"},0]
[null,null," ",null,null," ",null,null,null,null,{"$f":"IF(H102=\"\",\"\",VLOOKUP(H102,'Local Tax Rate-Hide'!$A$1:$E$327,5))","v":""},null,null,{"$f":"IF(H102=\"\",\"0\",VLOOKUP(H102,'Local Tax Rate-Hide'!$A$1:$E$327,2))","v":"0"},0]
[null,null," ",null,null," ",null,null,null,null,{"$f":"IF(H103=\"\",\"\",VLOOKUP(H103,'Local Tax Rate-Hide'!$A$1:$E$327,5))","v":""},null,null,{"$f":"IF(H103=\"\",\"0\",VLOOKUP(H103,'Local Tax Rate-Hide'!$A$1:$E$327,2))","v":"0"},0]
[null,null," ",null,null," ",null,null,null,null,{"$f":"IF(H104=\"\",\"\",VLOOKUP(H104,'Local Tax Rate-Hide'!$A$1:$E$327,5))","v":""},null,null,{"$f":"IF(H104=\"\",\"0\",VLOOKUP(H104,'Local Tax Rate-Hide'!$A$1:$E$327,2))","v":"0"},0]
[null,null," ",null,null," ",null,null,null,null,{"$f":"IF(H105=\"\",\"\",VLOOKUP(H105,'Local Tax Rate-Hide'!$A$1:$E$327,5))","v":""},null,null,{"$f":"IF(H105=\"\",\"0\",VLOOKUP(H105,'Local Tax Rate-Hide'!$A$1:$E$327,2))","v":"0"},0]
[null,null," ",null,null," ",null,null,null,null,{"$f":"IF(H106=\"\",\"\",VLOOKUP(H106,'Local Tax Rate-Hide'!$A$1:$E$327,5))","v":""},null,null,{"$f":"IF(H106=\"\",\"0\",VLOOKUP(H106,'Local Tax Rate-Hide'!$A$1:$E$327,2))","v":"0"},0]
[null,null," ",null,null," ",null,null,null,null,{"$f":"IF(H107=\"\",\"\",VLOOKUP(H107,'Local Tax Rate-Hide'!$A$1:$E$327,5))","v":""},null,null,{"$f":"IF(H107=\"\",\"0\",VLOOKUP(H107,'Local Tax Rate-Hide'!$A$1:$E$327,2))","v":"0"},0]
[null,null," ",null,null," ",null,null,null,null,{"$f":"IF(H108=\"\",\"\",VLOOKUP(H108,'Local Tax Rate-Hide'!$A$1:$E$327,5))","v":""},null,null,{"$f":"IF(H108=\"\",\"0\",VLOOKUP(H108,'Local Tax Rate-Hide'!$A$1:$E$327,2))","v":"0"},0]
[null,null," ",null,null," ",null,null,null,null,{"$f":"IF(H109=\"\",\"\",VLOOKUP(H109,'Local Tax Rate-Hide'!$A$1:$E$327,5))","v":""},null,null,{"$f":"IF(H109=\"\",\"0\",VLOOKUP(H109,'Local Tax Rate-Hide'!$A$1:$E$327,2))","v":"0"},0]
[null,null," ",null,null," ",null,null,null,null,{"$f":"IF(H110=\"\",\"\",VLOOKUP(H110,'Local Tax Rate-Hide'!$A$1:$E$327,5))","v":""},null,null,{"$f":"IF(H110=\"\",\"0\",VLOOKUP(H110,'Local Tax Rate-Hide'!$A$1:$E$327,2))","v":"0"},0]
[null,null," ",null,null," ",null,null,null,null,{"$f":"IF(H111=\"\",\"\",VLOOKUP(H111,'Local Tax Rate-Hide'!$A$1:$E$327,5))","v":""},null,null,{"$f":"IF(H111=\"\",\"0\",VLOOKUP(H111,'Local Tax Rate-Hide'!$A$1:$E$327,2))","v":"0"},0]
[null,null," ",null,null," ",null,null,null,null,{"$f":"IF(H112=\"\",\"\",VLOOKUP(H112,'Local Tax Rate-Hide'!$A$1:$E$327,5))","v":""},null,null,{"$f":"IF(H112=\"\",\"0\",VLOOKUP(H112,'Local Tax Rate-Hide'!$A$1:$E$327,2))","v":"0"},0]
[null,null," ",null,null," ",null,null,null,null,{"$f":"IF(H113=\"\",\"\",VLOOKUP(H113,'Local Tax Rate-Hide'!$A$1:$E$327,5))","v":""},null,null,{"$f":"IF(H113=\"\",\"0\",VLOOKUP(H113,'Local Tax Rate-Hide'!$A$1:$E$327,2))","v":"0"},0]
[null,null," ",null,null," ",null,null,null,null,{"$f":"IF(H114=\"\",\"\",VLOOKUP(H114,'Local Tax Rate-Hide'!$A$1:$E$327,5))","v":""},null,null,{"$f":"IF(H114=\"\",\"0\",VLOOKUP(H114,'Local Tax Rate-Hide'!$A$1:$E$327,2))","v":"0"},0]
[null,"Total Taxable Selling Price (Must match \"A\" above)","Total state REET tax",null,null,{"$f":"SUM(F15:G114)","v":0},null,"Total local REET tax",null,null,null,null,null,null,{"$f":"SUM(O15:O114)","v":0}]
["Step 4: Calculate the state REET tax and local REET tax per county"]
["Sumbit one affidavit per county using the state and local amounts determined below. Enter these amounts in section 7 of the affidavits."]
["County Name",null,null,"State REET\nAdd the state REET amounts from the\nstate REET tax column above for all the locations within the county",null,null,null,null,null,"Local REET\nAdd the local REET amounts from the\nlocal REET tax column above for all the\nlocations within the county"]
[null,null,null,{"$f":"SUMIF($K$15:$M$114,A119,$F$15:$G$114)","v":0},null,null,null,null,null,{"$f":"SUMIF($K$15:$M$114,A119,$O$15:$O$114)","v":0}]
[null,null,null,{"$f":"SUMIF($K$15:$M$114,A120,$F$15:$G$114)","v":0},null,null,null,null,null,{"$f":"SUMIF($K$15:$M$114,A120,$O$15:$O$114)","v":0}]
[null,null,null,{"$f":"SUMIF($K$15:$M$114,A121,$F$15:$G$114)","v":0},null,null,null,null,null,{"$f":"SUMIF($K$15:$M$114,A121,$O$15:$O$114)","v":0}]
[null,null,null,{"$f":"SUMIF($K$15:$M$114,A122,$F$15:$G$114)","v":0},null,null,null,null,null,{"$f":"SUMIF($K$15:$M$114,A122,$O$15:$O$114)","v":0}]
["Total State REET Tax",null,null,null,null,null,{"$f":"SUM(D119:I122)","v":0},null,null,"Total Local REET Tax",null,null,null,{"$f":"SUM(J119:O122)","v":0}]
["For tax assistance, contact your local County Treasurer/Recorder or visit http://dor.wa.gov or call 360-534-1503. To request this document in an alternate format, please call 360-705-6705. Teletype (TTY) users may use the Washington Relay Service by calling 711."]

{"sheet":"Local Tax Rate-Hide","index":2,"n_rows":329,"n_cols":8,"rows_kept":329,"cut":false,"hidden":true,"merged":[]}
["Code and Location","RATE","CODE","Location","County"]
["0100 - Adams County",2.5000000000000001E-3,100,"Adams County","Adams"]
["0101 - Hatton",2.5000000000000001E-3,101,"Hatton","Adams",null,null,"County"]
["0102 - Lind",2.5000000000000001E-3,102,"Lind","Adams",null,null,"Adams"]
["0103 - Othello",2.5000000000000001E-3,103,"Othello","Adams",null,null,"Asotin"]
["0104 - Ritzville",2.5000000000000001E-3,104,"Ritzville","Adams",null,null,"Benton"]
["0105 - Washtucna",2.5000000000000001E-3,105,"Washtucna","Adams",null,null,"Chelan"]
["0200 - Asotin County",2.5000000000000001E-3,200,"Asotin County","Asotin",null,null,"Clallam"]
["0201 - Asotin City",2.5000000000000001E-3,201,"Asotin City","Asotin",null,null,"Clark"]
["0202 - Clarkston",2.5000000000000001E-3,202,"Clarkston","Asotin",null,null,"Columbia"]
["0300 - Benton County",2.5000000000000001E-3,300,"Benton County","Benton",null,null,"Cowlitz"]
["0301 - Benton City",5.0000000000000001E-3,301,"Benton City","Benton",null,null,"Douglas"]
["0302 - Kennewick",5.0000000000000001E-3,302,"Kennewick","Benton",null,null,"Ferry"]
["0303 - Prosser",5.0000000000000001E-3,303,"Prosser","Benton",null,null,"Franklin"]
["0304 - Richland",5.0000000000000001E-3,304,"Richland","Benton",null,null,"Garfield"]
["0305 - West Richland",5.0000000000000001E-3,305,"West Richland","Benton",null,null,"Grant"]
["0400 - Chelan County",5.0000000000000001E-3,400,"Chelan County","Chelan",null,null,"Grays Harbor"]
["0401 - Cashmere",2.5000000000000001E-3,401,"Cashmere","Chelan",null,null,"Island"]
["0402 - Chelan City",5.0000000000000001E-3,402,"Chelan City","Chelan",null,null,"Jefferson"]
["0403 - Entiat",2.5000000000000001E-3,403,"Entiat","Chelan",null,null,"King"]
["0404 - Leavenworth",5.0000000000000001E-3,404,"Leavenworth","Chelan",null,null,"Kitsap"]
["0405 - Wenatchee",5.0000000000000001E-3,405,"Wenatchee","Chelan",null,null,"Kittitas"]
["0500 - Clallam County",5.0000000000000001E-3,500,"Clallam County","Clallam",null,null,"Klickitat"]
["0501 - Forks",2.5000000000000001E-3,501,"Forks","Clallam",null,null,"Lewis"]
["0502 - Port Angeles",5.0000000000000001E-3,502,"Port Angeles","Clallam",null,null,"Lincoln"]
["0503 - Sequim",5.0000000000000001E-3,503,"Sequim","Clallam",null,null,"Mason"]
["0600 - Clark County",5.0000000000000001E-3,600,"Clark County","Clark",null,null,"Okanogan"]
["0601 - Battle Ground",5.0000000000000001E-3,601,"Battle Ground","Clark",null,null,"Pacific"]
["0602 - Camas",5.0000000000000001E-3,602,"Camas","Clark",null,null,"Pend Oreille"]
["0603 - La Center",5.0000000000000001E-3,603,"La Center","Clark",null,null,"Pierce"]
["0604 - Ridgefield",5.0000000000000001E-3,604,"Ridgefield","Clark",null,null,"San Juan"]
["0605 - Vancouver",5.0000000000000001E-3,605,"Vancouver","Clark",null,null,"Skagit"]
["0606 - Washougal",5.0000000000000001E-3,606,"Washougal","Clark",null,null,"Skamania"]
["0607 - Yacolt",2.5000000000000001E-3,607,"Yacolt","Clark",null,null,"Snohomish"]
["0700 - Columbia County",5.0000000000000001E-3,700,"Columbia County","Columbia",null,null,"Spokane"]
["0701 - Dayton",2.5000000000000001E-3,701,"Dayton","Columbia",null,null,"Stevens"]
["0702 - Starbuck",0,702,"Starbuck","Columbia",null,null,"Thurston"]
["0800 - Cowlitz County",2.5000000000000001E-3,800,"Cowlitz County","Cowlitz",null,null,"Wahkiakum"]
["0801 - Castle Rock",2.5000000000000001E-3,801,"Castle Rock","Cowlitz",null,null,"Walla Walla"]
["0802 - Kalama",2.5000000000000001E-3,802,"Kalama","Cowlitz",null,null,"Whatcom"]
["0803 - Kelso",2.5000000000000001E-3,803,"Kelso","Cowlitz",null,null,"Whitman"]
["0804 - Longview",2.5000000000000001E-3,804,"Longview","Cowlitz",null,null,"Yakima"]
["0805 - Woodland",5.0000000000000001E-3,805,"Woodland","Cowlitz",null,null,"Grand Total"]
["0900 - Douglas County",2.5000000000000001E-3,900,"Douglas County","Douglas"]
["0901 - Bridgeport",2.5000000000000001E-3,901,"Bridgeport","Douglas"]
["0902 - East Wenatchee",5.0000000000000001E-3,902,"East Wenatchee","Douglas"]
["0903 - Mansfield",5.0000000000000001E-3,903,"Mansfield","Douglas"]
["0904 - Rock Island",2.5000000000000001E-3,904,"Rock Island","Douglas"]
["0905 - Waterville",5.0000000000000001E-3,905,"Waterville","Douglas"]
["0949 - Coulee Dam (Douglas)",5.0000000000000001E-3,949,"Coulee Dam (Douglas)","Douglas"]
["1000 - Ferry County",2.5000000000000001E-3,1000,"Ferry County","Ferry"]
["1001 - Republic",2.5000000000000001E-3,1001,"Republic","Ferry"]
["1100 - Franklin County",5.0000000000000001E-3,1100,"Franklin County","Franklin"]
["1101 - Connell",5.0000000000000001E-3,1101,"Connell","Franklin"]
["1102 - Kahlotus",2.5000000000000001E-3,1102,"Kahlotus","Franklin"]
["1103 - Mesa",2.5000000000000001E-3,1103,"Mesa","Franklin"]
["1104 - Pasco",5.0000000000000001E-3,1104,"Pasco","Franklin"]
["1200 - Garfield County",2.5000000000000001E-3,1200,"Garfield County","Garfield"]
["1201 - Pomeroy",2.5000000000000001E-3,1201,"Pomeroy","Garfield"]
["1300 - Grant County",5.0000000000000001E-3,1300,"Grant County","Grant"]
["1301 - Coulee City",2.5000000000000001E-3,1301,"Coulee City","Grant"]
["1302 - Electric City",5.0000000000000001E-3,1302,"Electric City","Grant"]
["1303 - Ephrata",5.0000000000000001E-3,1303,"Ephrata","Grant"]
["1304 - George",5.0000000000000001E-3,1304,"George","Grant"]
["1305 - Grand Coulee",2.5000000000000001E-3,1305,"Grand Coulee","Grant"]
["1306 - Hartline",2.5000000000000001E-3,1306,"Hartline","Grant"]
["1307 - Krupp",0,1307,"Krupp","Grant"]
["1308 - Mattawa",5.0000000000000001E-3,1308,"Mattawa","Grant"]
["1309 - Moses Lake",5.0000000000000001E-3,1309,"Moses Lake","Grant"]
["1310 - Quincy",5.0000000000000001E-3,1310,"Quincy","Grant"]
["1311 - Royal City",5.0000000000000001E-3,1311,"Royal City","Grant"]
["1312 - Soap Lake",5.0000000000000001E-3,1312,"Soap Lake","Grant"]
["1313 - Warden",5.0000000000000001E-3,1313,"Warden","Grant"]
["1315 - Wilson Creek",5.0000000000000001E-3,1315,"Wilson Creek","Grant"]
["1349 - Coulee Dam (Grant)",5.0000000000000001E-3,1349,"Coulee Dam (Grant)","Grant"]
["1400 - Grays Harbor County",2.5000000000000001E-3,1400,"Grays Harbor County","Grays Harbor"]
["1401 - Aberdeen",2.5000000000000001E-3,1401,"Aberdeen","Grays Harbor"]
["1402 - Cosmopolis",2.5000000000000001E-3,1402,"Cosmopolis","Grays Harbor"]
["1403 - Elma",2.5000000000000001E-3,1403,"Elma","Grays Harbor"]
["1404 - Hoquiam",2.5000000000000001E-3,1404,"Hoquiam","Grays Harbor"]
["1405 - McCleary",2.5000000000000001E-3,1405,"McCleary","Grays Harbor"]
["1406 - Montesano",2.5000000000000001E-3,1406,"Montesano","Grays Harbor"]
["1407 - Oakville",2.5000000000000001E-3,1407,"Oakville","Grays Harbor"]
["1408 - Westport",2.5000000000000001E-3,1408,"Westport","Grays Harbor"]
["1409 - Ocean Shores",2.5000000000000001E-3,1409,"Ocean Shores","Grays Harbor"]
["1500 - Island County",5.0000000000000001E-3,1500,"Island County","Island"]
["1501 - Coupeville",5.0000000000000001E-3,1501,"Coupeville","Island"]
["1502 - Langley",5.0000000000000001E-3,1502,"Langley","Island"]
["1503 - Oak Harbor",5.0000000000000001E-3,1503,"Oak Harbor","Island"]
["1600 - Jefferson County",5.0000000000000001E-3,1600,"Jefferson County","Jefferson"]
["1601 - Port Townsend",5.0000000000000001E-3,1601,"Port Townsend","Jefferson"]
["1700 - King County",5.0000000000000001E-3,1700,"King County","King"]
["1701 - Algona",5.0000000000000001E-3,1701,"Algona","King"]
["1702 - Auburn (King)",5.0000000000000001E-3,1702,"Auburn (King)","King"]
["1703 - Beaux Arts Village",5.0000000000000001E-3,1703,"Beaux Arts Village","King"]
["1704 - Bellevue",5.0000000000000001E-3,1704,"Bellevue","King"]
["1705 - Black Diamond",5.0000000000000001E-3,1705,"Black Diamond","King"]
["1706 - Bothell (King)",5.0000000000000001E-3,1706,"Bothell (King)","King"]
["1707 - Carnation",5.0000000000000001E-3,1707,"Carnation","King"]
["1708 - Clyde Hill",5.0000000000000001E-3,1708,"Clyde Hill","King"]
["1709 - Des Moines",5.0000000000000001E-3,1709,"Des Moines","King"]
["1710 - Duvall",5.0000000000000001E-3,1710,"Duvall","King"]
["1711 - Enumclaw",5.0000000000000001E-3,1711,"Enumclaw","King"]
["1712 - Covington",null,1712,"Covington","King"]
["1713 - Hunts Point",5.0000000000000001E-3,1713,"Hunts Point","King"]
["1714 - Issaquah",5.0000000000000001E-3,1714,"Issaquah","King"]
["1715 - Kent",5.0000000000000001E-3,1715,"Kent","King"]
["1716 - Kirkland",5.0000000000000001E-3,1716,"Kirkland","King"]
["1717 - Lake Forest Park",5.0000000000000001E-3,1717,"Lake Forest Park","King"]
["1718 - Medina",5.0000000000000001E-3,1718,"Medina","King"]
["1719 - Mercer Island",5.0000000000000001E-3,1719,"Mercer Island","King"]
["1720 - Maple Valley",5.0000000000000001E-3,1720,"Maple Valley","King"]
["1721 - Normandy Park",5.0000000000000001E-3,1721,"Normandy Park","King"]
["1722 - North Bend",5.0000000000000001E-3,1722,"North Bend","King"]
["1723 - Pacific (King)",5.0000000000000001E-3,1723,"Pacific (King)","King"]
["1724 - Redmond",5.0000000000000001E-3,1724,"Redmond","King"]
["1725 - Renton",5.0000000000000001E-3,1725,"Renton","King"]
["1726 - Seattle",5.0000000000000001E-3,1726,"Seattle","King"]
["1727 - Skykomish",5.0000000000000001E-3,1727,"Skykomish","King"]
["1728 - Snoqualmie",5.0000000000000001E-3,1728,"Snoqualmie","King"]
["1729 - Tukwila",5.0000000000000001E-3,1729,"Tukwila","King"]
["1730 - Yarrow Point",5.0000000000000001E-3,1730,"Yarrow Point","King"]
["1731 - Milton (King)",5.0000000000000001E-3,1731,"Milton (King)","King"]
["1732 - Federal Way",5.0000000000000001E-3,1732,"Federal Way","King"]
["1733 - Sea Tac",5.0000000000000001E-3,1733,"Sea Tac","King"]
["1734 - Burien",5.0000000000000001E-3,1734,"Burien","King"]
["1735 - Woodinville",5.0000000000000001E-3,1735,"Woodinville","King"]
["1736 - Newcastle",5.0000000000000001E-3,1736,"Newcastle","King"]
["1737 - Shoreline",5.0000000000000001E-3,1737,"Shoreline","King"]
["1738 - Kenmore",5.0000000000000001E-3,1738,"Kenmore","King"]
["1739 - Sammamish",5.0000000000000001E-3,1739,"Sammamish","King"]
["1800 - Kitsap County",5.0000000000000001E-3,1800,"Kitsap County","Kitsap"]
["1801 - Bremerton",5.0000000000000001E-3,1801,"Bremerton","Kitsap"]
["1802 - Port Orchard",5.0000000000000001E-3,1802,"Port Orchard","Kitsap"]
["1803 - Poulsbo",5.0000000000000001E-3,1803,"Poulsbo","Kitsap"]
["1804 - Bainbridge Island",5.0000000000000001E-3,1804,"Bainbridge Island","Kitsap"]
["1900 - Kittitas County",5.0000000000000001E-3,1900,"Kittitas County","Kittitas"]
["1901 - Cle Elum",5.0000000000000001E-3,1901,"Cle Elum","Kittitas"]
["1902 - Ellensburg",2.5000000000000001E-3,1902,"Ellensburg","Kittitas"]
["1903 - Kittitas City",2.5000000000000001E-3,1903,"Kittitas City","Kittitas"]
["1904 - Roslyn",5.0000000000000001E-3,1904,"Roslyn","Kittitas"]
["1905 - South Cle Elum",2.5000000000000001E-3,1905,"South Cle Elum","Kittitas"]
["2000 - Klickitat County",2.5000000000000001E-3,2000,"Klickitat County","Klickitat"]
["2001 - Bingen",2.5000000000000001E-3,2001,"Bingen","Klickitat"]
["2002 - Goldendale",2.5000000000000001E-3,2002,"Goldendale","Klickitat"]
["2003 - White Salmon",2.5000000000000001E-3,2003,"White Salmon","Klickitat"]
["2100 - Lewis County",5.0000000000000001E-3,2100,"Lewis County","Lewis"]
["2101 - Centralia",5.0000000000000001E-3,2101,"Centralia","Lewis"]
["2102 - Chehalis",5.0000000000000001E-3,2102,"Chehalis","Lewis"]
["2103 - Morton",5.0000000000000001E-3,2103,"Morton","Lewis"]
["2104 - Mossyrock",5.0000000000000001E-3,2104,"Mossyrock","Lewis"]
["2105 - Napavine",5.0000000000000001E-3,2105,"Napavine","Lewis"]
["2106 - Pe Ell",2.5000000000000001E-3,2106,"Pe Ell","Lewis"]
["2107 - Toledo",5.0000000000000001E-3,2107,"Toledo","Lewis"]
["2108 - Vader",5.0000000000000001E-3,2108,"Vader","Lewis"]
["2109 - Winlock",5.0000000000000001E-3,2109,"Winlock","Lewis"]
["2200 - Lincoln County",2.5000000000000001E-3,2200,"Lincoln County","Lincoln"]
["2201 - Almira",2.5000000000000001E-3,2201,"Almira","Lincoln"]
["2202 - Creston",2.5000000000000001E-3,2202,"Creston","Lincoln"]
["2203 - Davenport",2.5000000000000001E-3,2203,"Davenport","Lincoln"]
["2204 - Harrington",2.5000000000000001E-3,2204,"Harrington","Lincoln"]
["2205 - Odessa",2.5000000000000001E-3,2205,"Odessa","Lincoln"]
["2206 - Reardan",2.5000000000000001E-3,2206,"Reardan","Lincoln"]
["2207 - Sprague",2.5000000000000001E-3,2207,"Sprague","Lincoln"]
["2208 - Wilbur",2.5000000000000001E-3,2208,"Wilbur","Lincoln"]
["2300 - Mason County",5.0000000000000001E-3,2300,"Mason County","Mason"]
["2301 - Shelton",5.0000000000000001E-3,2301,"Shelton","Mason"]
["2400 - Okanogan County",2.5000000000000001E-3,2400,"Okanogan County","Okanogan"]
["2401 - Brewster",2.5000000000000001E-3,2401,"Brewster","Okanogan"]
["2402 - Conconully",2.5000000000000001E-3,2402,"Conconully","Okanogan"]
["2403 - Coulee Dam (Okanogan)",5.0000000000000001E-3,2403,"Coulee Dam (Okanogan)","Okanogan"]
["2404 - Elmer City",0,2404,"Elmer City","Okanogan"]
["2405 - Nespelem",2.5000000000000001E-3,2405,"Nespelem","Okanogan"]
["2406 - Okanogan",2.5000000000000001E-3,2406,"Okanogan","Okanogan"]
["2407 - Omak",2.5000000000000001E-3,2407,"Omak","Okanogan"]
["2408 - Oroville",2.5000000000000001E-3,2408,"Oroville","Okanogan"]
["2409 - Pateros",2.5000000000000001E-3,2409,"Pateros","Okanogan"]
["2410 - Riverside",2.5000000000000001E-3,2410,"Riverside","Okanogan"]
["2411 - Tonasket",5.0000000000000001E-3,2411,"Tonasket","Okanogan"]
["2412 - Twisp",2.5000000000000001E-3,2412,"Twisp","Okanogan"]
["2413 - Winthrop",2.5000000000000001E-3,2413,"Winthrop","Okanogan"]
["2500 - Pacific County",2.5000000000000001E-3,2500,"Pacific County","Pacific"]
["2501 - Ilwaco",2.5000000000000001E-3,2501,"Ilwaco","Pacific"]
["2502 - Long Beach",2.5000000000000001E-3,2502,"Long Beach","Pacific"]
["2503 - Raymond",2.5000000000000001E-3,2503,"Raymond","Pacific"]
["2504 - South Bend",2.5000000000000001E-3,2504,"South Bend","Pacific"]
["2600 - Pend Oreille County",2.5000000000000001E-3,2600,"Pend Oreille County","Pend Oreille"]
["2601 - Cusick",2.5000000000000001E-3,2601,"Cusick","Pend Oreille"]
["2602 - Ione",2.5000000000000001E-3,2602,"Ione","Pend Oreille"]
["2603 - Metaline",0,2603,"Metaline","Pend Oreille"]
["2604 - Metaline Falls",2.5000000000000001E-3,2604,"Metaline Falls","Pend Oreille"]
["2605 - Newport",5.0000000000000001E-3,2605,"Newport","Pend Oreille"]
["2700 - Pierce County",5.0000000000000001E-3,2700,"Pierce County","Pierce"]
["2701 - Bonney Lake",5.0000000000000001E-3,2701,"Bonney Lake","Pierce"]
["2702 - Buckley",5.0000000000000001E-3,2702,"Buckley","Pierce"]
["2703 - Carbonado",5.0000000000000001E-3,2703,"Carbonado","Pierce"]
["2704 - DuPont",5.0000000000000001E-3,2704,"DuPont","Pierce"]
["2705 - Eatonville",2.5000000000000001E-3,2705,"Eatonville","Pierce"]
["2706 - Fife",5.0000000000000001E-3,2706,"Fife","Pierce"]
["2707 - Fircrest",5.0000000000000001E-3,2707,"Fircrest","Pierce"]
["2708 - Gig Harbor",5.0000000000000001E-3,2708,"Gig Harbor","Pierce"]
["2709 - Milton (Pierce)",5.0000000000000001E-3,2709,"Milton (Pierce)","Pierce"]
["2710 - Orting",5.0000000000000001E-3,2710,"Orting","Pierce"]
["2711 - Puyallup",5.0000000000000001E-3,2711,"Puyallup","Pierce"]
["2712 - Roy",5.0000000000000001E-3,2712,"Roy","Pierce"]
["2713 - Ruston",5.0000000000000001E-3,2713,"Ruston","Pierce"]
["2714 - South Prairie",5.0000000000000001E-3,2714,"South Prairie","Pierce"]
["2715 - Steilacoom",5.0000000000000001E-3,2715,"Steilacoom","Pierce"]
["2716 - Sumner",5.0000000000000001E-3,2716,"Sumner","Pierce"]
["2717 - Tacoma",5.0000000000000001E-3,2717,"Tacoma","Pierce"]
["2718 - Wilkeson",5.0000000000000001E-3,2718,"Wilkeson","Pierce"]
["2719 - University Place",5.0000000000000001E-3,2719,"University Place","Pierce"]
["2720 - Edgewood",5.0000000000000001E-3,2720,"Edgewood","Pierce"]
["2721 - Lakewood",5.0000000000000001E-3,2721,"Lakewood","Pierce"]
["2723 - Pacific (Pierce)",5.0000000000000001E-3,2723,"Pacific (Pierce)","Pierce"]
["2724 - Auburn (Pierce)",5.0000000000000001E-3,2724,"Auburn (Pierce)","Pierce"]
["2800 - San Juan County",0.02,2800,"San Juan County","San Juan"]
["2801 - Friday Harbor",0.02,2801,"Friday Harbor","San Juan"]
["2900 - Skagit County",5.0000000000000001E-3,2900,"Skagit County","Skagit"]
["2901 - Anacortes",5.0000000000000001E-3,2901,"Anacortes","Skagit"]
["2902 - Burlington",5.0000000000000001E-3,2902,"Burlington","Skagit"]
["2903 - Concrete",5.0000000000000001E-3,2903,"Concrete","Skagit"]
["2904 - Hamilton",5.0000000000000001E-3,2904,"Hamilton","Skagit"]
["2905 - La Conner",5.0000000000000001E-3,2905,"La Conner","Skagit"]
["2906 - Lyman",5.0000000000000001E-3,2906,"Lyman","Skagit"]
["2907 - Mount Vernon",5.0000000000000001E-3,2907,"Mount Vernon","Skagit"]
["2908 - Sedro Woolley",5.0000000000000001E-3,2908,"Sedro Woolley","Skagit"]
["3000 - Skamania County",2.5000000000000001E-3,3000,"Skamania County","Skamania"]
["3001 - North Bonneville",2.5000000000000001E-3,3001,"North Bonneville","Skamania"]
["3002 - Stevenson",2.5000000000000001E-3,3002,"Stevenson","Skamania"]
["3100 - Snohomish County",5.0000000000000001E-3,3100,"Snohomish County","Snohomish"]
["3101 - Arlington",5.0000000000000001E-3,3101,"Arlington","Snohomish"]
["3102 - Brier",5.0000000000000001E-3,3102,"Brier","Snohomish"]
["3103 - Darrington",2.5000000000000001E-3,3103,"Darrington","Snohomish"]
["3104 - Edmonds",5.0000000000000001E-3,3104,"Edmonds","Snohomish"]
["3105 - Everett",5.0000000000000001E-3,3105,"Everett","Snohomish"]
["3106 - Gold Bar",5.0000000000000001E-3,3106,"Gold Bar","Snohomish"]
["3107 - Granite Falls",5.0000000000000001E-3,3107,"Granite Falls","Snohomish"]
["3108 - Index",5.0000000000000001E-3,3108,"Index","Snohomish"]
["3109 - Lake Stevens",5.0000000000000001E-3,3109,"Lake Stevens","Snohomish"]
["3110 - Lynnwood",5.0000000000000001E-3,3110,"Lynnwood","Snohomish"]
["3111 - Marysville",5.0000000000000001E-3,3111,"Marysville","Snohomish"]
["3112 - Monroe",5.0000000000000001E-3,3112,"Monroe","Snohomish"]
["3113 - Mountlake Terrace",5.0000000000000001E-3,3113,"Mountlake Terrace","Snohomish"]
["3114 - Mukilteo",5.0000000000000001E-3,3114,"Mukilteo","Snohomish"]
["3115 - Snohomish City",5.0000000000000001E-3,3115,"Snohomish City","Snohomish"]
["3116 - Stanwood",5.0000000000000001E-3,3116,"Stanwood","Snohomish"]
["3117 - Sultan",5.0000000000000001E-3,3117,"Sultan","Snohomish"]
["3118 - Woodway",5.0000000000000001E-3,3118,"Woodway","Snohomish"]
["3119 - Mill Creek",5.0000000000000001E-3,3119,"Mill Creek","Snohomish"]
["3120 - Bothell (Snohomish)",5.0000000000000001E-3,3120,"Bothell (Snohomish)","Snohomish"]
["3200 - Spokane County",5.0000000000000001E-3,3200,"Spokane County","Spokane"]
["3201 - Airway Heights",5.0000000000000001E-3,3201,"Airway Heights","Spokane"]
["3202 - Cheney",5.0000000000000001E-3,3202,"Cheney","Spokane"]
["3203 - Deer Park",5.0000000000000001E-3,3203,"Deer Park","Spokane"]
["3204 - Fairfield",2.5000000000000001E-3,3204,"Fairfield","Spokane"]
["3205 - Latah",0,3205,"Latah","Spokane"]
["3206 - Medical Lake",2.5000000000000001E-3,3206,"Medical Lake","Spokane"]
["3207 - Millwood",5.0000000000000001E-3,3207,"Millwood","Spokane"]
["3208 - Rockford",2.5000000000000001E-3,3208,"Rockford","Spokane"]
["3209 - Spangle",2.5000000000000001E-3,3209,"Spangle","Spokane"]
["3210 - Spokane City",5.0000000000000001E-3,3210,"Spokane City","Spokane"]
["3211 - Waverly",0,3211,"Waverly","Spokane"]
["3212 - Liberty Lake",5.0000000000000001E-3,3212,"Liberty Lake","Spokane"]
["3213 - Spokane Valley",5.0000000000000001E-3,3213,"Spokane Valley","Spokane"]
["3300 - Stevens County",2.5000000000000001E-3,3300,"Stevens County","Stevens"]
["3301 - Chewelah",2.5000000000000001E-3,3301,"Chewelah","Stevens"]
["3302 - Colville",2.5000000000000001E-3,3302,"Colville","Stevens"]
["3303 - Kettle Falls",2.5000000000000001E-3,3303,"Kettle Falls","Stevens"]
["3304 - Marcus",2.5000000000000001E-3,3304,"Marcus","Stevens"]
["3305 - Northport",2.5000000000000001E-3,3305,"Northport","Stevens"]
["3306 - Springdale",2.5000000000000001E-3,3306,"Springdale","Stevens"]
["3400 - Thurston County",5.0000000000000001E-3,3400,"Thurston County","Thurston"]
["3401 - Bucoda",5.0000000000000001E-3,3401,"Bucoda","Thurston"]
["3402 - Lacey",5.0000000000000001E-3,3402,"Lacey","Thurston"]
["3403 - Olympia",5.0000000000000001E-3,3403,"Olympia","Thurston"]
["3404 - Rainier",2.5000000000000001E-3,3404,"Rainier","Thurston"]
["3405 - Tenino",5.0000000000000001E-3,3405,"Tenino","Thurston"]
["3406 - Tumwater",5.0000000000000001E-3,3406,"Tumwater","Thurston"]
["3407 - Yelm",5.0000000000000001E-3,3407,"Yelm","Thurston"]
["3500 - Wahkiakum County",2.5000000000000001E-3,3500,"Wahkiakum County","Wahkiakum"]
["3501 - Cathlamet",2.5000000000000001E-3,3501,"Cathlamet","Wahkiakum"]
["3600 - Walla Walla County",2.5000000000000001E-3,3600,"Walla Walla County","Walla Walla"]
["3601 - College Place",5.0000000000000001E-3,3601,"College Place","Walla Walla"]
["3602 - Prescott",0,3602,"Prescott","Walla Walla"]
["3603 - Waitsburg",5.0000000000000001E-3,3603,"Waitsburg","Walla Walla"]
["3604 - Walla Walla",2.5000000000000001E-3,3604,"Walla Walla","Walla Walla"]
["3700 - Whatcom County",5.0000000000000001E-3,3700,"Whatcom County","Whatcom"]
["3701 - Bellingham",5.0000000000000001E-3,3701,"Bellingham","Whatcom"]
["3702 - Blaine",5.0000000000000001E-3,3702,"Blaine","Whatcom"]
["3703 - Everson",5.0000000000000001E-3,3703,"Everson","Whatcom"]
["3704 - Ferndale",5.0000000000000001E-3,3704,"Ferndale","Whatcom"]
["3705 - Lynden",5.0000000000000001E-3,3705,"Lynden","Whatcom"]
["3706 - Nooksack",5.0000000000000001E-3,3706,"Nooksack","Whatcom"]
["3707 - Sumas",5.0000000000000001E-3,3707,"Sumas","Whatcom"]
["3800 - Whitman County",2.5000000000000001E-3,3800,"Whitman County","Whitman"]
["3801 - Albion",2.5000000000000001E-3,3801,"Albion","Whitman"]
["3802 - Colfax",2.5000000000000001E-3,3802,"Colfax","Whitman"]
["3803 - Colton",2.5000000000000001E-3,3803,"Colton","Whitman"]
["3804 - Endicott",2.5000000000000001E-3,3804,"Endicott","Whitman"]
["3805 - Farmington",2.5000000000000001E-3,3805,"Farmington","Whitman"]
["3806 - Garfield",2.5000000000000001E-3,3806,"Garfield","Whitman"]
["3807 - LaCrosse",2.5000000000000001E-3,3807,"LaCrosse","Whitman"]
["3808 - Lamont",0,3808,"Lamont","Whitman"]
["3809 - Malden",2.5000000000000001E-3,3809,"Malden","Whitman"]
["3810 - Oakesdale",2.5000000000000001E-3,3810,"Oakesdale","Whitman"]
["3811 - Palouse",2.5000000000000001E-3,3811,"Palouse","Whitman"]
["3812 - Pullman",2.5000000000000001E-3,3812,"Pullman","Whitman"]
["3813 - Rosalia",2.5000000000000001E-3,3813,"Rosalia","Whitman"]
["3814 - St John",2.5000000000000001E-3,3814,"St John","Whitman"]
["3815 - Tekoa",2.5000000000000001E-3,3815,"Tekoa","Whitman"]
["3816 - Uniontown",2.5000000000000001E-3,3816,"Uniontown","Whitman"]
["3900 - Yakima County",2.5000000000000001E-3,3900,"Yakima County","Yakima"]
["3901 - Grandview",5.0000000000000001E-3,3901,"Grandview","Yakima"]
["3902 - Granger",5.0000000000000001E-3,3902,"Granger","Yakima"]
["3903 - Harrah",2.5000000000000001E-3,3903,"Harrah","Yakima"]
["3904 - Mabton",5.0000000000000001E-3,3904,"Mabton","Yakima"]
["3905 - Moxee City",2.5000000000000001E-3,3905,"Moxee City","Yakima"]
["3906 - Naches",2.5000000000000001E-3,3906,"Naches","Yakima"]
["3907 - Selah",2.5000000000000001E-3,3907,"Selah","Yakima"]
["3908 - Sunnyside",5.0000000000000001E-3,3908,"Sunnyside","Yakima"]
["3909 - Tieton",2.5000000000000001E-3,3909,"Tieton","Yakima"]
["3910 - Toppenish",5.0000000000000001E-3,3910,"Toppenish","Yakima"]
["3911 - Union Gap",5.0000000000000001E-3,3911,"Union Gap","Yakima"]
["3912 - Wapato",5.0000000000000001E-3,3912,"Wapato","Yakima"]
["3913 - Yakima City",5.0000000000000001E-3,3913,"Yakima City","Yakima"]
["3914 - Zillah",5.0000000000000001E-3,3914,"Zillah","Yakima"]
[]
["current as of: 11/13/24"]